BEGIN:VCALENDAR
VERSION:2.0
PRODID:-//Philippine Independence Day Parade Inc. - ECPv6.15.20//NONSGML v1.0//EN
CALSCALE:GREGORIAN
METHOD:PUBLISH
X-WR-CALNAME:Philippine Independence Day Parade Inc.
X-ORIGINAL-URL:https://pidci.org
X-WR-CALDESC:Events for Philippine Independence Day Parade Inc.
REFRESH-INTERVAL;VALUE=DURATION:PT1H
X-Robots-Tag:noindex
X-PUBLISHED-TTL:PT1H
BEGIN:VTIMEZONE
TZID:America/New_York
BEGIN:DAYLIGHT
TZOFFSETFROM:-0500
TZOFFSETTO:-0400
TZNAME:EDT
DTSTART:20210314T070000
END:DAYLIGHT
BEGIN:STANDARD
TZOFFSETFROM:-0400
TZOFFSETTO:-0500
TZNAME:EST
DTSTART:20211107T060000
END:STANDARD
BEGIN:DAYLIGHT
TZOFFSETFROM:-0500
TZOFFSETTO:-0400
TZNAME:EDT
DTSTART:20220313T070000
END:DAYLIGHT
BEGIN:STANDARD
TZOFFSETFROM:-0400
TZOFFSETTO:-0500
TZNAME:EST
DTSTART:20221106T060000
END:STANDARD
BEGIN:DAYLIGHT
TZOFFSETFROM:-0500
TZOFFSETTO:-0400
TZNAME:EDT
DTSTART:20230312T070000
END:DAYLIGHT
BEGIN:STANDARD
TZOFFSETFROM:-0400
TZOFFSETTO:-0500
TZNAME:EST
DTSTART:20231105T060000
END:STANDARD
END:VTIMEZONE
BEGIN:VEVENT
DTSTART;TZID=America/New_York:20220514T190000
DTEND;TZID=America/New_York:20220514T230000
DTSTAMP:20260422T043322
CREATED:20220420T051236Z
LAST-MODIFIED:20220506T151958Z
UID:9026-1652554800-1652569200@pidci.org
SUMMARY:Mrs. Kalayaan 2022
DESCRIPTION:Mrs. Kalayaan is a popularity contest for married or formerly married Filipino/Filipino-American women who vie for the honor of becoming PIDCI’s Ambassador of Goodwill for one year and also get the opportunity to get to ride on a festive parade float during the Philippine Independence Day Parade on Madison Avenue (the largest parade of its kind outside the Philippines) on the first Sunday in June. AS PIDCI Ambassadors of Goodwill\, our Mrs. Kalayaan titleholders get to promote the PIDCI in various community events and gatherings and participate actively in PIDCI events and endeavours. It is now on its tenth year.
URL:https://pidci.org/event/mrs-kalayaan-2022/
LOCATION:DoubleTree by Hilton Hotel Newark Airport\, 128 Frontage Road\, Newark\, NJ\, 07114\, United States
CATEGORIES:All Events
ATTACH;FMTTYPE=image/jpeg:https://pidci.org/wp-content/uploads/2022/04/MrsK2019.jpeg
END:VEVENT
BEGIN:VEVENT
DTSTART;TZID=America/New_York:20220416T190000
DTEND;TZID=America/New_York:20220416T230000
DTSTAMP:20260422T043322
CREATED:20220404T080112Z
LAST-MODIFIED:20220422T152709Z
UID:8726-1650135600-1650150000@pidci.org
SUMMARY:Diwa Ng Kalayaan 2022
DESCRIPTION:We proudly introduce you to Geraldine\, Tara\, and Christine\, our lovely contestants for Diwa ng Kalayaan.\nThese young ladies exemplify the true meaning of beauty and brains.\nWho will be crowned as our next Diwa ng Kalayaan? Come and join us on April 16th to find out.\nDon’t miss out!
URL:https://pidci.org/event/diwa-ng-kalayaan-2022/
LOCATION:Holiday Inn Newark International Airport\, 160 Frontage Road\, Newark\, NJ\, 07114\, United States
CATEGORIES:All Events
ATTACH;FMTTYPE=image/png:https://pidci.org/wp-content/uploads/2022/04/2022-Diwa-ng-Kalayaan.png
ORGANIZER;CN="Diwa Ng Kalayaan Committee":MAILTO:info@pidci.org
END:VEVENT
BEGIN:VEVENT
DTSTART;TZID=America/New_York:20220319T190000
DTEND;TZID=America/New_York:20220319T230000
DTSTAMP:20260422T043322
CREATED:20220422T152243Z
LAST-MODIFIED:20220422T152713Z
UID:9034-1647716400-1647730800@pidci.org
SUMMARY:Grand Marshal Gala 2022
DESCRIPTION:The Independence Day Parade Grand Marshal is one of the highest honors bestowed by PIDCI annually to an individual (or a couple). The search recognizes an exceptionally outstanding person (or a couple) whose contributions have positively impacted the local community and the greater community as well. This special honor is in recognition of excellent leadership qualities\, outstanding personal achievements\, contributions and service in a specific field of endeavor\, as well as in the field of public service not only in the Filipino-American community\, but also in mainstream America. Besides being the symbolic standard bearer of the independence day celebration and promoting the parade\, street fair\, cultural festival on the first Sunday of June\, the grand marshal is also expected to take part in various pre-celebratory events that will lead up to the Philippine Independence Day celebrations namely: Grand Marshal Gala\, Mrs. Kalayaan Pageant\, Diwa ng Kalayaan Pageant and culminating with the Independence Ball and the Maria Clara Coronation Gala
URL:https://pidci.org/event/grand-marshal-gala/
LOCATION:Teaneck Marriott at Glenpointe\, 100 Frank W Burr Blvd\, Teaneck\, NJ\, 07666\, United States
CATEGORIES:All Events
ATTACH;FMTTYPE=image/jpeg:https://pidci.org/wp-content/uploads/2022/04/278069144_10166472200140161_6245158465242634448_n.jpg
ORGANIZER;CN="Grand Marshal Gala Committee":MAILTO:info@pidci.org
END:VEVENT
END:VCALENDAR